BEGIN:VCALENDAR
VERSION:2.0
PRODID:-//wp-events-plugin.com//6.5//EN
BEGIN:VEVENT
UID:40-1256@milano.swea.org
DTSTART:20220930T183000Z
DTEND:20220930T193000Z
DTSTAMP:20220913T122340Z
URL:https://milano.swea.org/events/aperitivo-pa-zoom/
SUMMARY:Aperitivo på Zoom
DESCRIPTION:Vi kör en Zoom aperitivo så att även ni Sweor som inte kan t
 a er in till Milano får chansen att ses!\n\nZoom-länk läggs på SWEA Mi
 lanos FB.
END:VEVENT
END:VCALENDAR