BEGIN:VCALENDAR
VERSION:2.0
PRODID:-//wp-events-plugin.com//6.5//EN
BEGIN:VEVENT
UID:40-7847@milano.swea.org
DTSTART:20250213T173000Z
DTEND:20250213T231500Z
DTSTAMP:20250209T150322Z
URL:https://milano.swea.org/events/arsmote-middag-2/
SUMMARY:Årsmöte &amp\; middag 
DESCRIPTION:en 13 februari anordnar SWEA Milano sitt årsmöte 2025.\n\nAnm
 älan till mötet senast den 6 februari 2025  till milano.program@swea.or
 g och ange om ni kommer att närvara fysiskt eller online med google-meet 
 (se länk nedan). Vi kan tyvärr inte garantera att det blir störningsfri
 tt och att allt kommer att höras för on-line deltagare så om du har mö
 jlighet är det bäst att delta på plats.\n\nGoogle meet länk: meet.goog
 le.com/hhb-mrkf-xau\n\nJoin by phone\n‪(IT) +39 02 3041 9837 PIN: ‪994
  377 891#\n\nOm du inte kan komma kan du ge en fullmakt till en annan medl
 em\, se bifogad fil.\n\nEfter mötet går vi ut gemensamt på pizzeria Fra
 telli La Bufala\, Corso Vittorio Emanuele II\n\nAnmäl dig även till midd
 agen senast den 6 februari.\n\nVälkomna!\n
ATTACH;FMTTYPE=image/jpeg:https://milano.swea.org/wp-content/uploads/sites
 /40/2025/02/Kopia-av-SWEA-Milano-Arsmote-2024-1.png
END:VEVENT
END:VCALENDAR