BEGIN:VCALENDAR
VERSION:2.0
PRODID:-//wp-events-plugin.com//6.5//EN
BEGIN:VEVENT
UID:40-1729@milano.swea.org
DTSTART:20221218T163000Z
DTEND:20221218T173000Z
DTSTAMP:20221108T214323Z
URL:https://milano.swea.org/events/bokcirkeln-prosa-prosecco-2/
SUMMARY:Bokcirkeln Prosa &amp\; Prosecco
DESCRIPTION:Sista boken före juluppehållet som vi diskuterar är Hon vars
  hjärta var mitt av Göran Greider.\n\nPlats: Svenska skolan i Milano (Ca
 dorna) eller via Zoom för er som inte bor i regionen (länk på SWEA Mila
 nos FB sida)
END:VEVENT
END:VCALENDAR