BEGIN:VCALENDAR
VERSION:2.0
PRODID:-//wp-events-plugin.com//6.5//EN
BEGIN:VEVENT
UID:40-2342@milano.swea.org
DTSTART:20230215T093000Z
DTEND:20230215T101500Z
DTSTAMP:20230123T210819Z
URL:https://milano.swea.org/events/fika-online-43/
SUMMARY:Fika online
DESCRIPTION:https://milano.swea.org/onsdagsfika-online/
END:VEVENT
END:VCALENDAR