BEGIN:VCALENDAR
VERSION:2.0
PRODID:-//wp-events-plugin.com//6.5//EN
BEGIN:VEVENT
UID:40-1292@milano.swea.org
DTSTART:20220928T093000Z
DTEND:20220928T101500Z
DTSTAMP:20220917T132450Z
URL:https://milano.swea.org/events/fika-pa-zoom-2/
SUMMARY:Fika på Zoom
DESCRIPTION:Vi ses över en kopp kaffe på Zoom!\n\nLänk till fikaträffen
  på SWEA Milanos FB samt i mailutskick.
END:VEVENT
END:VCALENDAR