BEGIN:VCALENDAR
VERSION:2.0
PRODID:-//wp-events-plugin.com//6.5//EN
BEGIN:VEVENT
UID:40-7721@milano.swea.org
DTSTART;TZID=America/Chicago:20170611T130000
DTEND;TZID=America/Chicago:20170611T150000
DTSTAMP:20260419T143938Z
URL:
SUMMARY:Vi firar Sveriges nationaldag
DESCRIPTION:\nNationaldagsfirandet år 2016 - SWEA Dallas\n&nbsp\;\nNationa
 ldagen\nVarmt välkomna till firandet av vår svenska nationaldag!\nVi fi
 rar traditionsenligt nationaldagen för 26:e gången hemma hos Tina Klintm
 alm. Vi Sweor träffas på "tjejlunch" där vi kan lära känna andra SW
 EA-medlemmar\, nya som gamla!\nPå nationaldagsfirandet bjuds det på smö
 rgåsbord och om du har lust och möjlighet att bidra till smörgåsbor
 det kan du anmäla det här:\nUtlägg ersätts mot kvitto.\nLotter med fin
 a vinster kommer finnas till försäljning (glöm inte att ta med kontant
 er!).\nKostnad $30. Bindande anmälan via PayPal till SWEA Dallas \n\n\nS
 ista anmälningsdag är 3 juni.\n\nObservera att betalning måste ha kommi
 t in till SWEA Dallas för att anmälan ska vara giltig.\nVid återbud ef
 ter den 3 juni: kontakta sweadallas.programs@gmail.com.\nKom gärna i folk
 dräkt!\nVarmt välkomna!\nHälsar\nSWEA Dallas Programgrupp\n \nDu kan l
 äsa mer om vår svenska nationaldag här:\n&nbsp\;\n\n
END:VEVENT
BEGIN:VEVENT
UID:40-1114@milano.swea.org
DTSTART:20220914T093000Z
DTEND:20220914T101500Z
DTSTAMP:20220904T202246Z
URL:https://milano.swea.org/events/fika-via-zoom/
SUMMARY:Fika via Zoom
DESCRIPTION:Onsdagen den 14 september kör vi igång med vår online-fika i
 gen. Koppla upp er på Zoom för en fikapaus tillsammans med andra Milano 
 Sweor!\nLänk på SWEA Milanos FB-sida samt i nyhetsbrevet som ni fått vi
 a mail.
END:VEVENT
BEGIN:VEVENT
UID:40-1115@milano.swea.org
DTSTART:20220914T183000Z
DTEND:20220914T200000Z
DTSTAMP:20220904T202709Z
URL:https://milano.swea.org/events/hostaperitivo-i-milano/
SUMMARY:Höstaperitivo i Milano
DESCRIPTION:Vi träffas för en första höstaperitivo på Princi  på piaz
 za XXV Aprile\, 5 i Milano (vid Porta Garibaldi)\nAnmäl er på FB eller t
 ill swea.milano@gmail.com ! Vi bokar upp platser.\n\n\n
END:VEVENT
BEGIN:VEVENT
UID:40-1254@milano.swea.org
DTSTART:20220921T093000Z
DTEND:20220921T101500Z
DTSTAMP:20220913T120525Z
URL:https://milano.swea.org/events/fika-pa-zoom/
SUMMARY:Fika på Zoom
DESCRIPTION:Länk till fikaträffen på SWEA Milanos FB samt i mailutskick.
END:VEVENT
BEGIN:VEVENT
UID:40-1255@milano.swea.org
DTSTART:20220921T130000Z
DTEND:20220921T140000Z
DTSTAMP:20220917T134637Z
URL:https://milano.swea.org/events/lunchmote-med-swea-professional-italien
 /
SUMMARY:Lunchmöte med SWEA Professional Italien
DESCRIPTION:Lunchmöte med SWEA Professional Italien 21/9 - Milano  Länk 
 till Zoom på SWEA Milanos FB.
END:VEVENT
BEGIN:VEVENT
UID:40-1292@milano.swea.org
DTSTART:20220928T093000Z
DTEND:20220928T101500Z
DTSTAMP:20220917T132450Z
URL:https://milano.swea.org/events/fika-pa-zoom-2/
SUMMARY:Fika på Zoom
DESCRIPTION:Vi ses över en kopp kaffe på Zoom!\n\nLänk till fikaträffen
  på SWEA Milanos FB samt i mailutskick.
END:VEVENT
BEGIN:VEVENT
UID:40-1256@milano.swea.org
DTSTART:20220930T183000Z
DTEND:20220930T193000Z
DTSTAMP:20220913T122340Z
URL:https://milano.swea.org/events/aperitivo-pa-zoom/
SUMMARY:Aperitivo på Zoom
DESCRIPTION:Vi kör en Zoom aperitivo så att även ni Sweor som inte kan t
 a er in till Milano får chansen att ses!\n\nZoom-länk läggs på SWEA Mi
 lanos FB.
END:VEVENT
BEGIN:VEVENT
UID:40-1103@milano.swea.org
DTSTART:20221002T163000Z
DTEND:20221002T173000Z
DTSTAMP:20220918T094752Z
URL:https://milano.swea.org/events/swea-milano-bokcirkeln-2/
SUMMARY:Bokcirkeln Prosa &amp\; Prosecco
DESCRIPTION:Dags för höstens första bokcirkel! https://milano.swea.org/2
 -10-hostens-forsta-bokcirkel/
LOCATION:via Vincenzo Monti 11\, via Vincenzo Monti 11\, Milano\, 20123\, I
 talien
X-APPLE-STRUCTURED-LOCATION;VALUE=URI;X-ADDRESS=via Vincenzo Monti 11\, Mil
 ano\, 20123\, Italien;X-APPLE-RADIUS=100;X-TITLE=via Vincenzo Monti 11:geo
 :0,0
END:VEVENT
BEGIN:VEVENT
UID:40-1293@milano.swea.org
DTSTART:20221005T093000Z
DTEND:20221005T101500Z
DTSTAMP:20220917T132946Z
URL:https://milano.swea.org/events/fika-pa-zoom-3/
SUMMARY:Fika på Zoom
DESCRIPTION:Titta in eller stanna hela fikastunden!\n\nLänk till fikaträf
 fen på Zoom på SWEA Milanos FB samt i mailutskick.
END:VEVENT
BEGIN:VEVENT
UID:40-1298@milano.swea.org
DTSTART:20221015T193000Z
DTEND:20221015T234500Z
DTSTAMP:20220926T193351Z
URL:https://milano.swea.org/events/swea-milanos-30-ars-jubileumsmiddag/
SUMMARY:SWEA Milanos 30 års jubileumsmiddag
DESCRIPTION:Kom till vår 30 års-jubileumsmiddag på Ristorante Tagiura i 
 Milano! Info SWEA Milanos 30 års-jubileumsmiddag 15/10 - Milano
END:VEVENT
BEGIN:VEVENT
UID:40-1295@milano.swea.org
DTSTART:20221019T093000Z
DTEND:20221019T101500Z
DTSTAMP:20220917T133059Z
URL:https://milano.swea.org/events/onsdagsfika-pa-zoom-2/
SUMMARY:Onsdagsfika på Zoom
DESCRIPTION:Titta in eller stanna hela fikastunden!\n\nLänk till fikaträf
 fen på Zoom på SWEA Milanos FB samt i mailutskick.
END:VEVENT
BEGIN:VEVENT
UID:40-1557@milano.swea.org
DTSTART:20221022T150000Z
DTEND:20221022T190000Z
DTSTAMP:20221015T133153Z
URL:https://milano.swea.org/events/utflykt-till-certosa-di-pavia-och-pavia
 /
SUMMARY:Utflykt till Certosa di Pavia och Pavia
DESCRIPTION:Se Utflykt till Certosa di Pavia och Pavia 22/10 - Milano (swea
 .org)
END:VEVENT
BEGIN:VEVENT
UID:40-1296@milano.swea.org
DTSTART:20221026T093000Z
DTEND:20221026T101500Z
DTSTAMP:20220917T133127Z
URL:https://milano.swea.org/events/onsdagsfika-pa-zoom-3/
SUMMARY:Onsdagsfika på Zoom
DESCRIPTION:Titta in eller stanna hela fikastunden!\n\nLänk till fikaträf
 fen på Zoom på SWEA Milanos FB samt i mailutskick.
END:VEVENT
BEGIN:VEVENT
UID:40-1612@milano.swea.org
DTSTART:20221102T093000Z
DTEND:20221102T101500Z
DTSTAMP:20221026T081808Z
URL:https://milano.swea.org/events/onsdagsfika-pa-zoom-4/
SUMMARY:Onsdagsfika på Zoom
DESCRIPTION:Vi ses på fika en stund! Länk på SWEA Milanos FB-sida.
END:VEVENT
BEGIN:VEVENT
UID:40-1465@milano.swea.org
DTSTART:20221106T163000Z
DTEND:20221106T173000Z
DTSTAMP:20221003T215430Z
URL:https://milano.swea.org/events/bokklubben-prosa-prosecco/
SUMMARY:Bokklubben Prosa &amp\; Prosecco
DESCRIPTION:Bokklubben träffas 6/11 - Milano (swea.org)
END:VEVENT
BEGIN:VEVENT
UID:40-1613@milano.swea.org
DTSTART:20221109T093000Z
DTEND:20221109T101500Z
DTSTAMP:20221103T181801Z
URL:https://milano.swea.org/events/fika-online-pa-zoom/
SUMMARY:Fika online på Zoom
DESCRIPTION:Vi ses på fika en stund! Länk på SWEA Milanos FB-sida och i 
 våra mailutskick (samma länk varje gång).
END:VEVENT
BEGIN:VEVENT
UID:40-1700@milano.swea.org
DTSTART:20221116T093000Z
DTEND:20221116T101500Z
DTSTAMP:20221103T181938Z
URL:https://milano.swea.org/events/fika-online-39/
SUMMARY:Fika online
DESCRIPTION:Titta in eller stanna hela fikastunden. Länk på SWEA Fb sida 
 och i våra mailutskick (samma länk varje gång)
END:VEVENT
BEGIN:VEVENT
UID:40-1695@milano.swea.org
DTSTART:20221122T110000Z
DTEND:20221122T130000Z
DTSTAMP:20221103T181220Z
URL:https://milano.swea.org/events/konstgruppen-till-palazzo-reale/
SUMMARY:Konstgruppen till Palazzo Reale
DESCRIPTION:Nästa utställning som Konstgruppen och alla intresserade bjud
 s in att besöka tillsammans blir utställningen "Bosch e un altro Rinasci
 mento" på Palazzo Reale. Info: https://www.palazzorealemilano.it/mostre/e
 -un-altro-rinascimento  Var och en köper sin biljett. Vi träffas vid in
 gången.\n\nDe som vill äter lunch tillsammans efteråt.\n\nAnmäl till N
 ina Cuneo senast den 20 november om ni vill komma med.
END:VEVENT
BEGIN:VEVENT
UID:40-1728@milano.swea.org
DTSTART:20221123T093000Z
DTEND:20221123T101500Z
DTSTAMP:20221108T214048Z
URL:https://milano.swea.org/events/fika-online-40/
SUMMARY:Fika online
DESCRIPTION:Titta in eller stanna hela fikastunden. Länk på SWEA Fb sida 
 och i våra mailutskick (samma länk varje gång)
END:VEVENT
BEGIN:VEVENT
UID:40-1659@milano.swea.org
DTSTART:20221124T183000Z
DTEND:20221124T200000Z
DTSTAMP:20221031T182204Z
URL:https://milano.swea.org/events/bokbytar-aperitivo-i-milano/
SUMMARY:Bokbytar-aperitivo i Milano
DESCRIPTION:https://milano.swea.org/bokbytar-aperitivo-i-milano/\n\n&nbsp\;
END:VEVENT
BEGIN:VEVENT
UID:40-1614@milano.swea.org
DTSTART:20221203T110000Z
DTEND:20221203T180000Z
DTSTAMP:20221027T195705Z
URL:https://milano.swea.org/events/swea-milanos-julevent-i-milano/
SUMMARY:Julmarknad med Luciatåg
DESCRIPTION:Kom på SWEA Milanos julmarknad med Lucia i Anglikanska Kyrkan 
 i Milano! Vi kommer att sälja juldekorationer\, tomtar\, lite presentarti
 klar\, matvaror\, choklad och så blir det adventsfika\, dragspelsmusik oc
 h Luciatåg med barn från svenska skolan. Mer info kommer!
END:VEVENT
BEGIN:VEVENT
UID:40-1697@milano.swea.org
DTSTART:20221207T093000Z
DTEND:20221207T101500Z
DTSTAMP:20221103T181437Z
URL:https://milano.swea.org/events/fika-online-37/
SUMMARY:Fika online
DESCRIPTION:Häng med en stund och fika ihop! Zoom-länk på SWEA Milanos F
 B sida.
END:VEVENT
BEGIN:VEVENT
UID:40-1699@milano.swea.org
DTSTART:20221214T093000Z
DTEND:20221214T101500Z
DTSTAMP:20221103T181718Z
URL:https://milano.swea.org/events/fika-online-38/
SUMMARY:Fika online
DESCRIPTION:Sista online-fikat före jul! Länk på SWEA Milanos FB eller i
  våra mailutskick (samma länk varje gång)
END:VEVENT
BEGIN:VEVENT
UID:40-1698@milano.swea.org
DTSTART:20221215T190000Z
DTEND:20221215T220000Z
DTSTAMP:20221103T181550Z
URL:https://milano.swea.org/events/julmiddag-hos-nina/
SUMMARY:Julmiddag hos Nina
DESCRIPTION:Nina bjuder in oss på knytjulkalas i sitt hem i centrala Milan
 o. Max 20 deltagare\, först till kvarn!\n\nAnmäl på SWEA Milanos FB ell
 er helst direkt till Nina så meddelar hon vad var och en kan ta med sig t
 ill julbordet.
END:VEVENT
BEGIN:VEVENT
UID:40-1897@milano.swea.org
DTSTART:20221216T183000Z
DTEND:20221216T193000Z
DTSTAMP:20221209T090337Z
URL:https://milano.swea.org/events/julaperitivo-pa-zoom/
SUMMARY:Julaperitivo på Zoom
DESCRIPTION:https://milano.swea.org/julaperitivo-online-den-16-12/
END:VEVENT
BEGIN:VEVENT
UID:40-1729@milano.swea.org
DTSTART:20221218T163000Z
DTEND:20221218T173000Z
DTSTAMP:20221108T214323Z
URL:https://milano.swea.org/events/bokcirkeln-prosa-prosecco-2/
SUMMARY:Bokcirkeln Prosa &amp\; Prosecco
DESCRIPTION:Sista boken före juluppehållet som vi diskuterar är Hon vars
  hjärta var mitt av Göran Greider.\n\nPlats: Svenska skolan i Milano (Ca
 dorna) eller via Zoom för er som inte bor i regionen (länk på SWEA Mila
 nos FB sida)
END:VEVENT
BEGIN:VEVENT
UID:40-2205@milano.swea.org
DTSTART:20230118T093000Z
DTEND:20230118T101500Z
DTSTAMP:20230108T204657Z
URL:https://milano.swea.org/events/fika-pa-zoom-5/
SUMMARY:Fika online
DESCRIPTION:https://milano.swea.org/onsdagsfika-pa-zoom/
END:VEVENT
BEGIN:VEVENT
UID:40-2206@milano.swea.org
DTSTART:20230125T093000Z
DTEND:20230125T101500Z
DTSTAMP:20230108T204748Z
URL:https://milano.swea.org/events/fika-pa-zoom-6/
SUMMARY:Fika online
DESCRIPTION:https://milano.swea.org/onsdagsfika-pa-zoom/
END:VEVENT
BEGIN:VEVENT
UID:40-2340@milano.swea.org
DTSTART:20230201T093000Z
DTEND:20230201T101500Z
DTSTAMP:20230123T210705Z
URL:https://milano.swea.org/events/fika-online-41/
SUMMARY:Fika online
DESCRIPTION:https://milano.swea.org/onsdagsfika-online/
END:VEVENT
BEGIN:VEVENT
UID:40-2341@milano.swea.org
DTSTART:20230208T093000Z
DTEND:20230208T101500Z
DTSTAMP:20230123T210743Z
URL:https://milano.swea.org/events/fika-online-42/
SUMMARY:Fika online
DESCRIPTION:https://milano.swea.org/onsdagsfika-online/
END:VEVENT
BEGIN:VEVENT
UID:40-2140@milano.swea.org
DTSTART:20230212T163000Z
DTEND:20230212T173000Z
DTSTAMP:20230104T101809Z
URL:https://milano.swea.org/events/swea-milanos-bokcirkel-traffas/
SUMMARY:SWEA Milanos bokcirkel träffas
DESCRIPTION:Vi diskuterar Löpa Varg av Kerstin Ekman
END:VEVENT
BEGIN:VEVENT
UID:40-2342@milano.swea.org
DTSTART:20230215T093000Z
DTEND:20230215T101500Z
DTSTAMP:20230123T210819Z
URL:https://milano.swea.org/events/fika-online-43/
SUMMARY:Fika online
DESCRIPTION:https://milano.swea.org/onsdagsfika-online/
END:VEVENT
BEGIN:VEVENT
UID:40-2343@milano.swea.org
DTSTART:20230222T093000Z
DTEND:20230222T101500Z
DTSTAMP:20230123T210857Z
URL:https://milano.swea.org/events/fika-online-44/
SUMMARY:Fika online
DESCRIPTION:https://milano.swea.org/onsdagsfika-online/
END:VEVENT
BEGIN:VEVENT
UID:40-2592@milano.swea.org
DTSTART:20230228T093000Z
DTEND:20230228T101500Z
DTSTAMP:20230214T080459Z
URL:https://milano.swea.org/events/fika-online-45/
SUMMARY:Fika online
DESCRIPTION:https://milano.swea.org/onsdagsfika-online/
END:VEVENT
BEGIN:VEVENT
UID:40-2593@milano.swea.org
DTSTART:20230301T093000Z
DTEND:20230301T101500Z
DTSTAMP:20230214T080545Z
URL:https://milano.swea.org/events/fika-online-46/
SUMMARY:Fika online
DESCRIPTION:https://milano.swea.org/onsdagsfika-online/
END:VEVENT
BEGIN:VEVENT
UID:40-2854@milano.swea.org
DTSTART:20230320T183000Z
DTEND:20230320T203000Z
DTSTAMP:20230310T061408Z
URL:https://milano.swea.org/events/litteraturkvall-med-aperitivo/
SUMMARY:Litteraturkväll med aperitivo
DESCRIPTION:https://milano.swea.org/litteraturkvall-och-aperitivo/
END:VEVENT
BEGIN:VEVENT
UID:40-2856@milano.swea.org
DTSTART:20230322T093000Z
DTEND:20230322T101500Z
DTSTAMP:20230310T061739Z
URL:https://milano.swea.org/events/fika-online-49/
SUMMARY:Fika online
DESCRIPTION:https://milano.swea.org/onsdagsfika-online/
END:VEVENT
BEGIN:VEVENT
UID:40-4446@milano.swea.org
DTSTART:20231202T110000Z
DTEND:20231202T170000Z
DTSTAMP:20231112T191756Z
URL:https://milano.swea.org/events/julmarknad-2/
SUMMARY:Julmarknad
DESCRIPTION:Lördag den 2 december organizzerar vi en Julmarknad på Birrif
 icio Barba d'Oro med glögg\, Lussebullar och presentartiklar! Barba d´Or
 o kommer även att sälja sin goda julöl!\n\n\nAdress: Via Capuana\, 10\,
  20090 Trezzano sul Naviglio (MI)\n\nKomer ni med bil går det bra att par
 kera i närheten.\nBuss: Nummer 327 stannar utanför\nTåg: Tåg till Trez
 zano och sedan ta buss eller gå ca 20 min (1\,4 km.)\n\nTa med både fami
 lj och vänner!\nVälkomna!\n\n
ATTACH;FMTTYPE=image/jpeg:https://milano.swea.org/wp-content/uploads/sites
 /40/2023/11/Facebook-2023.png
END:VEVENT
BEGIN:VEVENT
UID:40-4548@milano.swea.org
DTSTART:20231206T093000Z
DTEND:20231206T101500Z
DTSTAMP:20231205T205850Z
URL:https://milano.swea.org/events/fika-online-50/
SUMMARY:Fika Online
DESCRIPTION:\n\n\n\n\n\n\n\n\n\n\n\n\nTa en paus och titta in en stund på 
 vår onsdagsfika!\nKoppla upp dig via denna Google Meet länk:\nMeeting ID
 : meet.google.com/hhb-mrkf-xau\nPhone Numbers\n(‪IT‬) +39 02 3041 9837
 \nPIN: ‪994 377 891#‬\n\n\n\n\n
ATTACH;FMTTYPE=image/jpeg:https://milano.swea.org/wp-content/uploads/sites
 /40/2023/10/FIKA-ONLINE-.png
END:VEVENT
BEGIN:VEVENT
UID:40-4549@milano.swea.org
DTSTART:20231213T093000Z
DTEND:20231213T101500Z
DTSTAMP:20231205T210004Z
URL:https://milano.swea.org/events/fika-online-51/
SUMMARY:Fika Online
DESCRIPTION:Ta en paus och titta in en stund på vår onsdagsfika!\nKoppla 
 upp dig via denna Google Meet länk:\nMeeting ID: meet.google.com/hhb-mrkf
 -xau\nPhone Numbers\n(‪IT‬) +39 02 3041 9837\nPIN: ‪994 377 891#‬
ATTACH;FMTTYPE=image/jpeg:https://milano.swea.org/wp-content/uploads/sites
 /40/2023/10/FIKA-ONLINE-.png
END:VEVENT
BEGIN:VEVENT
UID:40-4545@milano.swea.org
DTSTART:20231217T163000Z
DTEND:20231217T171500Z
DTSTAMP:20231205T205105Z
URL:https://milano.swea.org/events/prosa-prosecco-17-12/
SUMMARY:Prosa &amp\; Prosecco
DESCRIPTION:Den 17 december träffas vi i Bokcirkeln Prosa &amp\; Prosecco 
 för att diskutera boken "Ett land av snö och aska" av Petra Rautiainen p
 å Svenska Skolan i Milano.\nAdress: Svenska Skolan (Yellow sound)\, Vince
 nzo Monti 11\, Milano.\nVälkomna!
ATTACH;FMTTYPE=image/jpeg:https://milano.swea.org/wp-content/uploads/sites
 /40/2023/12/Detta-hander-i-December.png
END:VEVENT
BEGIN:VEVENT
UID:40-4546@milano.swea.org
DTSTART:20231217T171500Z
DTEND:20231217T200000Z
DTSTAMP:20231205T204900Z
URL:https://milano.swea.org/events/gloggmingel-17-12/
SUMMARY:Glöggmingel
DESCRIPTION:Söndagen den 17 decemeber (Efter bokcirklen Prosa &amp\; Prose
 cco) blir det Glöggmingel på Svenska Skolan i Milano.\n\nAnmäl er senas
 t onsdag 13/12 till milano.program@swea.org\n\nKostnaden är 5€ per pers
 on som du kan betala på plats.\n\nAdress: Svenska Skolan (Yellow Sound)\,
 \nVincenzo Monti 11\, Milano.
ATTACH;FMTTYPE=image/jpeg:https://milano.swea.org/wp-content/uploads/sites
 /40/2023/12/Gloggmingel.png
END:VEVENT
BEGIN:VEVENT
UID:40-4547@milano.swea.org
DTSTART:20231219T190000Z
DTEND:20231219T220000Z
DTSTAMP:20231205T205340Z
URL:https://milano.swea.org/events/julmiddag-hos-bodil-2/
SUMMARY:Julmiddag hos Bodil
DESCRIPTION:en 19 december blir det traditionsenlig Julmiddag (kl.19.00) d
 å Bodil öppnar igen sitt underbara hem åt oss så att vi kan träffas. 
 Bodil bor mitt inne i Milano inte långt ifrån Cadorna.\n\nDet blir knytk
 alas som vi brukar och alla måste kontakta Bodil i god tid innan och komm
 a överens om vad vi kan ta med. Anmäl dig snarast om du vill vara med\, 
 platserna är begränsade. Först till kvarn...\n\nAnmäl er till Bodil se
 nast den 11 december\, nummer finns i nyhetsbrevet och på Facebook.
ATTACH;FMTTYPE=image/jpeg:https://milano.swea.org/wp-content/uploads/sites
 /40/2023/12/JULMIDDAG.png
END:VEVENT
BEGIN:VEVENT
UID:40-4651@milano.swea.org
DTSTART:20240121T163000Z
DTEND:20240121T173000Z
DTSTAMP:20240105T101704Z
URL:https://milano.swea.org/events/prosa-prosecco-21-01/
SUMMARY:Prosa &amp\; Prosecco 21/01
DESCRIPTION:\n\n\n\n\n\n\n\n\n\n\n\n\nÅrets första bokcirkel kommer att 
 äga rum den 21/01 på Svenska skolan i Milano\, Via Vincenzo Monti 11 (Ye
 llow sound) kl. 16.30.\n\nVi diskuterar boken 'Detaljerna' av Ia Genberg.\
 nVälkomna!\n\n
ATTACH;FMTTYPE=image/jpeg:https://milano.swea.org/wp-content/uploads/sites
 /40/2024/01/Kopia-av-Detta-hander-i-januari.png
END:VEVENT
BEGIN:VEVENT
UID:40-5097@milano.swea.org
DTSTART:20240218T163000Z
DTEND:20240218T183000Z
DTSTAMP:20240205T202902Z
URL:https://milano.swea.org/events/prosa-prosecco-2/
SUMMARY:Prosa &amp\; Prosecco
DESCRIPTION:Söndag den 18 februari möts vi kl 16:30 på Svenska Skolan i 
 Milano för att diskutera boken 'Inte död än' av Johan Ehn. Ni får gär
 na komma förbi och bara ta en fika. Anmäl er på Facebook eller till mil
 ano.program@swea.org. \n\nVälkomna!
ATTACH;FMTTYPE=image/jpeg:https://milano.swea.org/wp-content/uploads/sites
 /40/2024/02/Vi-traffas-sondagen-den-18-februari.png
END:VEVENT
BEGIN:VEVENT
UID:40-5098@milano.swea.org
DTSTART:20240220T180000Z
DTEND:20240220T191500Z
DTSTAMP:20240205T204443Z
URL:https://milano.swea.org/events/arsmote-middag/
SUMMARY:Årsmöte &amp\; middag
DESCRIPTION:Tisdag 20/02/24 bjuder SWEA Milano in till årsmöte kl 17:30 p
 å Svenska Konsulatet i Milano.\nAnmäl er helst senast den 13 februari 20
 24 till milano.program@swea.org och ange om ni kommer att närvara fysiskt
  eller online via Google Meet (länk nedan).\n\n\nGoogle länk : Video cal
 l link: https://meet.google.com/nsr-tqqi-bxb\nOr dial: ‪(IT) +39 02 3046
  1843‬ PIN: ‪860 933 748‬#\nMore phone numbers: https://tel.meet/nsr
 -tqqi-bxb?pin=1713379725255\n\nVi planerar sen att gå ut gemensamt på en
  pizzeria som ligger ca 4/5 minuters promenad från konsulatet - Acqua e F
 arina - det finns även annat än pizza för den som vill. Anmäl dig äve
 n till middagen senast den 13 februari!\n\nEndast medlemmar som betalat å
 rsavgiften för år 2024 kan rösta på mötet.\n\n\nVälkomna!
ATTACH;FMTTYPE=image/jpeg:https://milano.swea.org/wp-content/uploads/sites
 /40/2024/02/SWEA-Milano-Arsmote-2024.png
END:VEVENT
BEGIN:VEVENT
UID:40-5272@milano.swea.org
DTSTART:20240301T103000Z
DTEND:20240301T123000Z
DTSTAMP:20240226T080358Z
URL:https://milano.swea.org/events/forfattarevent-patrick-svensson/
SUMMARY:Författarevent - Patrick Svensson
DESCRIPTION:Fredag 1 mars kl. 10.30 Författaren Patrik Svensson talar o
 m sin senaste bok\, "Den lodande människan". Han fick sitt genombrott med
  boken Ålevangeliet och som vi läst i bokcirkeln. Nu kommer han till Uni
 versitetet för att tala för studenterna och SWEA Milanos medlemmar är h
 järtligt välkomna att delta vid detta tillfälle. Föreläsningen är p
 å svenska. För köp av boken (obs på italienska) meddela Anna Brännst
 röm så tar hon den med sig. Boken kostar €9 (mot 18€ i bokhandeln).\
 n\nAnmälning till Anna - Nummer hittar ni i SWEA Milanos Facebookgrupp.\n
 \n\n&nbsp\;
ATTACH;FMTTYPE=image/jpeg:https://milano.swea.org/wp-content/uploads/sites
 /40/2024/02/FORFATTAREVENT.png
END:VEVENT
BEGIN:VEVENT
UID:40-5273@milano.swea.org
DTSTART:20240305T180000Z
DTEND:20240305T210000Z
DTSTAMP:20240226T081023Z
URL:https://milano.swea.org/events/konstgruppen-ser-ron-mueck/
SUMMARY:Konstgruppen ser Ron Mueck
DESCRIPTION:Tisdag 5 mars kl. 18.00 Konstgruppen ser Ron Mueck på Trienn
 ale och tar en aperitivo efteråt. Anmälan till Nina Cuneo - Nummer hitta
 r ni i mailutskick och i SWEA Milanos Facebookgrupp.\n\n\nInfo om utställ
 ningen: https://triennale.org/eventi/ron-mueck\n\n&nbsp\;\n\n&nbsp\;
ATTACH;FMTTYPE=image/jpeg:https://milano.swea.org/wp-content/uploads/sites
 /40/2024/02/Ron-Mueck-.png
END:VEVENT
BEGIN:VEVENT
UID:40-5274@milano.swea.org
DTSTART:20240313T110000Z
DTEND:20240313T130000Z
DTSTAMP:20240226T081359Z
URL:https://milano.swea.org/events/semmelfika-hos-karin/
SUMMARY:Semmelfika hos Karin
DESCRIPTION:Onsdag 13 mars kl. 11.00 Semmelfika hos Karin i Monza!\nOBS! 
 Det är begränsade platser. Pris: €6\,00\nAnmäl er till Therése (numm
 er i mailutskick &amp\; SWEA Milanos Facebookgrupp) - SENAST den 11:e mars
ATTACH;FMTTYPE=image/jpeg:https://milano.swea.org/wp-content/uploads/sites
 /40/2024/02/Semmelfika-hos-Karin-i-Monza.png
END:VEVENT
BEGIN:VEVENT
UID:40-5276@milano.swea.org
DTSTART:20240326T110000Z
DTEND:20240326T150000Z
DTSTAMP:20240226T082232Z
URL:https://milano.swea.org/events/konstgruppen-ser-moroni/
SUMMARY:Konstgruppen ser Moroni
DESCRIPTION:Tisdag 26 mars kl. 11:00 Konstgruppen ser Moroni (1521-1580)
  - Il ritratto del suo tempo på Gallerie d'Italia med lunch på närligga
 nde restaurang efteråt. Anmälan till Nina Cuneo (nummer i mailutskick &a
 mp\; i SWEA Milanos Facebookgrupp).\n\nMer info om utställningen: https:
 //gallerieditalia.com/it/milano/mostre-e-iniziative/mostre/2023/12/moroni-
 1521-1580-il-ritratto-del-suo-tempo/ 
ATTACH;FMTTYPE=image/jpeg:https://milano.swea.org/wp-content/uploads/sites
 /40/2024/02/Konstrgruppen-MORONI.png
END:VEVENT
BEGIN:VTIMEZONE
TZID:America/Chicago
X-LIC-LOCATION:America/Chicago
BEGIN:DAYLIGHT
DTSTART:20170312T030000
TZOFFSETFROM:-0600
TZOFFSETTO:-0500
TZNAME:CDT
END:DAYLIGHT
END:VTIMEZONE
END:VCALENDAR