BEGIN:VCALENDAR
VERSION:2.0
PRODID:-//wp-events-plugin.com//6.5//EN
BEGIN:VEVENT
UID:40-1254@milano.swea.org
DTSTART:20220921T093000Z
DTEND:20220921T101500Z
DTSTAMP:20220913T120525Z
URL:https://milano.swea.org/events/fika-pa-zoom/
SUMMARY:Fika på Zoom
DESCRIPTION:Länk till fikaträffen på SWEA Milanos FB samt i mailutskick.
END:VEVENT
END:VCALENDAR