BEGIN:VCALENDAR
VERSION:2.0
PRODID:-//wp-events-plugin.com//6.5//EN
BEGIN:VEVENT
UID:40-1114@milano.swea.org
DTSTART:20220914T093000Z
DTEND:20220914T101500Z
DTSTAMP:20220904T202246Z
URL:https://milano.swea.org/events/fika-via-zoom/
SUMMARY:Fika via Zoom
DESCRIPTION:Onsdagen den 14 september kör vi igång med vår online-fika i
 gen. Koppla upp er på Zoom för en fikapaus tillsammans med andra Milano 
 Sweor!\nLänk på SWEA Milanos FB-sida samt i nyhetsbrevet som ni fått vi
 a mail.
END:VEVENT
END:VCALENDAR