BEGIN:VCALENDAR
VERSION:2.0
PRODID:-//wp-events-plugin.com//6.5//EN
BEGIN:VEVENT
UID:40-1115@milano.swea.org
DTSTART:20220914T183000Z
DTEND:20220914T200000Z
DTSTAMP:20220904T202709Z
URL:https://milano.swea.org/events/hostaperitivo-i-milano/
SUMMARY:Höstaperitivo i Milano
DESCRIPTION:Vi träffas för en första höstaperitivo på Princi  på piaz
 za XXV Aprile\, 5 i Milano (vid Porta Garibaldi)\nAnmäl er på FB eller t
 ill swea.milano@gmail.com ! Vi bokar upp platser.\n\n\n
END:VEVENT
END:VCALENDAR