BEGIN:VCALENDAR
VERSION:2.0
PRODID:-//wp-events-plugin.com//6.5//EN
BEGIN:VEVENT
UID:40-1698@milano.swea.org
DTSTART:20221215T190000Z
DTEND:20221215T220000Z
DTSTAMP:20221103T181550Z
URL:https://milano.swea.org/events/julmiddag-hos-nina/
SUMMARY:Julmiddag hos Nina
DESCRIPTION:Nina bjuder in oss på knytjulkalas i sitt hem i centrala Milan
 o. Max 20 deltagare\, först till kvarn!\n\nAnmäl på SWEA Milanos FB ell
 er helst direkt till Nina så meddelar hon vad var och en kan ta med sig t
 ill julbordet.
END:VEVENT
END:VCALENDAR