BEGIN:VCALENDAR
VERSION:2.0
PRODID:-//wp-events-plugin.com//6.5//EN
BEGIN:VEVENT
UID:40-1695@milano.swea.org
DTSTART:20221122T110000Z
DTEND:20221122T130000Z
DTSTAMP:20221103T181220Z
URL:https://milano.swea.org/events/konstgruppen-till-palazzo-reale/
SUMMARY:Konstgruppen till Palazzo Reale
DESCRIPTION:Nästa utställning som Konstgruppen och alla intresserade bjud
 s in att besöka tillsammans blir utställningen "Bosch e un altro Rinasci
 mento" på Palazzo Reale. Info: https://www.palazzorealemilano.it/mostre/e
 -un-altro-rinascimento  Var och en köper sin biljett. Vi träffas vid in
 gången.\n\nDe som vill äter lunch tillsammans efteråt.\n\nAnmäl till N
 ina Cuneo senast den 20 november om ni vill komma med.
END:VEVENT
END:VCALENDAR