BEGIN:VCALENDAR
VERSION:2.0
PRODID:-//wp-events-plugin.com//6.5//EN
BEGIN:VEVENT
UID:40-10357@milano.swea.org
DTSTART:20260327T190000Z
DTEND:20260327T200000Z
DTSTAMP:20260324T171748Z
URL:https://milano.swea.org/events/morker-over-stockholm-fallet-olof-palme
 /
SUMMARY:Bokpresentationen - Fallet Olof Palme
DESCRIPTION:\n\nMörker över Stockholm - Fallet Olof Palme\n\nEn italiensk
  författare som har skrivit en bok om Mordet på Olof Palme.\n\n27 mars 2
 026.19:00.Café Rouge.På Teatro Franco Parenti.\nhttps://teatrofrancopare
 nti.it/spettacolo/tenebre-su-stoccolma-fp/
END:VEVENT
END:VCALENDAR