BEGIN:VCALENDAR
VERSION:2.0
PRODID:-//wp-events-plugin.com//6.5//EN
BEGIN:VEVENT
UID:40-1295@milano.swea.org
DTSTART:20221019T093000Z
DTEND:20221019T101500Z
DTSTAMP:20220917T133059Z
URL:https://milano.swea.org/events/onsdagsfika-pa-zoom-2/
SUMMARY:Onsdagsfika på Zoom
DESCRIPTION:Titta in eller stanna hela fikastunden!\n\nLänk till fikaträf
 fen på Zoom på SWEA Milanos FB samt i mailutskick.
END:VEVENT
END:VCALENDAR