BEGIN:VCALENDAR
VERSION:2.0
PRODID:-//wp-events-plugin.com//6.5//EN
BEGIN:VEVENT
UID:40-1296@milano.swea.org
DTSTART:20221026T093000Z
DTEND:20221026T101500Z
DTSTAMP:20220917T133127Z
URL:https://milano.swea.org/events/onsdagsfika-pa-zoom-3/
SUMMARY:Onsdagsfika på Zoom
DESCRIPTION:Titta in eller stanna hela fikastunden!\n\nLänk till fikaträf
 fen på Zoom på SWEA Milanos FB samt i mailutskick.
END:VEVENT
END:VCALENDAR