BEGIN:VCALENDAR
VERSION:2.0
PRODID:-//wp-events-plugin.com//6.5//EN
BEGIN:VEVENT
UID:40-6826@milano.swea.org
DTSTART:20241011T080000Z
DTEND:20241020T200000Z
DTSTAMP:20241007T165128Z
URL:https://milano.swea.org/events/steg-for-halsa-stegtavling-11-20-10/
SUMMARY:Steg för hälsa -"Stegtävling" 11-20/10
DESCRIPTION:Går du 10 000 steg varje dag?! Eller vill du utmana dig sjäv 
 att göra det?\nVi ställer upp med ett lag i SWEAs stegtävling ”Steg f
 ör hälsa” som vi har vunnit två gånger! Det är inte lätt\, men vi 
 är taggade att försöka vinna titeln!\nTävlingen pågår i 10 dagar\, 1
 1 -20 oktober.\n\nAnmäl er till tavlingsteg@gmail.com senast 09/10 och an
 ge din målsättning med antal steg per dag. Därefter blir det en inledni
 ng i grupper när tävlingen börjar.\n\nAlla som deltar inbjuds till vår
  fantastiska Whatsappgrupp där vi peppar varandra att gå ännu längre!\
 n\nHäng på!
ATTACH;FMTTYPE=image/jpeg:https://milano.swea.org/wp-content/uploads/sites
 /40/2024/10/461655578_10231701938845494_902518832784111668_n.jpg
END:VEVENT
END:VCALENDAR