BEGIN:VCALENDAR
VERSION:2.0
PRODID:-//wp-events-plugin.com//6.5//EN
BEGIN:VEVENT
UID:40-1103@milano.swea.org
DTSTART:20221002T163000Z
DTEND:20221002T173000Z
DTSTAMP:20220918T094752Z
URL:https://milano.swea.org/events/swea-milano-bokcirkeln-2/
SUMMARY:Bokcirkeln Prosa &amp\; Prosecco
DESCRIPTION:Dags för höstens första bokcirkel! https://milano.swea.org/2
 -10-hostens-forsta-bokcirkel/
LOCATION:via Vincenzo Monti 11\, via Vincenzo Monti 11\, Milano\, 20123\, I
 talien
X-APPLE-STRUCTURED-LOCATION;VALUE=URI;X-ADDRESS=via Vincenzo Monti 11\, Mil
 ano\, 20123\, Italien;X-APPLE-RADIUS=100;X-TITLE=via Vincenzo Monti 11:geo
 :0,0
END:VEVENT
END:VCALENDAR