BEGIN:VCALENDAR
VERSION:2.0
PRODID:-//wp-events-plugin.com//6.5//EN
BEGIN:VEVENT
UID:40-1298@milano.swea.org
DTSTART:20221015T193000Z
DTEND:20221015T234500Z
DTSTAMP:20220926T193351Z
URL:https://milano.swea.org/events/swea-milanos-30-ars-jubileumsmiddag/
SUMMARY:SWEA Milanos 30 års jubileumsmiddag
DESCRIPTION:Kom till vår 30 års-jubileumsmiddag på Ristorante Tagiura i 
 Milano! Info SWEA Milanos 30 års-jubileumsmiddag 15/10 - Milano
END:VEVENT
END:VCALENDAR