BEGIN:VCALENDAR
VERSION:2.0
PRODID:-//wp-events-plugin.com//6.5//EN
BEGIN:VEVENT
UID:40-2140@milano.swea.org
DTSTART:20230212T163000Z
DTEND:20230212T173000Z
DTSTAMP:20230104T101809Z
URL:https://milano.swea.org/events/swea-milanos-bokcirkel-traffas/
SUMMARY:SWEA Milanos bokcirkel träffas
DESCRIPTION:Vi diskuterar Löpa Varg av Kerstin Ekman
END:VEVENT
END:VCALENDAR