BEGIN:VCALENDAR
VERSION:2.0
PRODID:-//wp-events-plugin.com//6.5//EN
BEGIN:VEVENT
UID:40-1614@milano.swea.org
DTSTART:20221203T110000Z
DTEND:20221203T180000Z
DTSTAMP:20221027T195705Z
URL:https://milano.swea.org/events/swea-milanos-julevent-i-milano/
SUMMARY:Julmarknad med Luciatåg
DESCRIPTION:Kom på SWEA Milanos julmarknad med Lucia i Anglikanska Kyrkan 
 i Milano! Vi kommer att sälja juldekorationer\, tomtar\, lite presentarti
 klar\, matvaror\, choklad och så blir det adventsfika\, dragspelsmusik oc
 h Luciatåg med barn från svenska skolan. Mer info kommer!
END:VEVENT
END:VCALENDAR