BEGIN:VCALENDAR
VERSION:2.0
PRODID:-//wp-events-plugin.com//6.5//EN
BEGIN:VEVENT
UID:40-10360@milano.swea.org
DTSTART:20260328T000000Z
DTEND:20260328T000000Z
DTSTAMP:20260320T204728Z
URL:https://milano.swea.org/events/swea-milanos-varutflykt/
SUMMARY:SWEA Milanos vårutflykt
DESCRIPTION:&nbsp\;\n\n\nFölj med på SWEA Milanos vårutflykt till Ortasj
 ön – 28 mars.\n&nbsp\;\n\n
END:VEVENT
END:VCALENDAR