BEGIN:VCALENDAR
VERSION:2.0
PRODID:-//wp-events-plugin.com//6.5//EN
BEGIN:VEVENT
UID:40-1557@milano.swea.org
DTSTART:20221022T150000Z
DTEND:20221022T190000Z
DTSTAMP:20221015T133153Z
URL:https://milano.swea.org/events/utflykt-till-certosa-di-pavia-och-pavia
 /
SUMMARY:Utflykt till Certosa di Pavia och Pavia
DESCRIPTION:Se Utflykt till Certosa di Pavia och Pavia 22/10 - Milano (swea
 .org)
END:VEVENT
END:VCALENDAR